Workbook

Sheet Inputs
A1: Pre-weaned lamb feed: | E1: Profit calculator for producing lamb for the ethnic market
A2: Weaning weight | B2: 48 | C2: lb | E2: Dr. Richard Ehrhardt and Dr. Erin Recktenwald
A3: Weaning age | B3: 65 | C3: days | E3: Michigan State University
A4: Number of days creep fed | B4: 0 | C4: days | E4: Version 1.1; April 9, 2018
A5: Average lb creep fed per day | B5: 0.4 | C5: lb DM/day
A6: Average creep feed price | B6: 0.15 | C6: $/lb DM
A7: Cost of creep feed | B7: =B4*B5*B6 -> 0 | C7: $/lamb
A8: Number of days fed hay | B8: 0 | C8: days
A9: Average lb hay fed per day | B9: 0.2 | C9: lb DM/day
A10: Average hay price | B10: 0.07 | C10: $/lb DM
A11: Cost of hay fed to pre-weaned lambs | B11: =B8*B9*B10 -> 0 | C11: $/lamb
A12: Cost of pre-weaned lamb feed | B12: =B7+B11 -> 0 | C12: $/lamb
A14: Ewe performance and feed costs:
A15: Number of breeding ewes | B15: 100 | C15: ewes | E15: Ewe feed during maintenance | F15: 2.4 | G15: % BW
A16: Ewe body weight | B16: 175 | C16: lbs | E16: Ewe feed during pregnancy | F16: =IF(B21<1.5,2.8,3.2) -> 3.2 | G16: % BW
A17: Ewe maintenance feed price | B17: 0.042 | C17: $/lb DM | E17: Ewe feed during lactation | F17: =IF(B21<1.5,3.5,3.9) -> 3.9 | G17: % BW
A18: Ewe pregnancy/lactation feed price | B18: 0.057 | C18: $/lb DM | E18: Ewe feed during maintenance | F18: =B16*F15/100*B17 -> 0.1764 | G18: $/ewe/day
A19: Number of months between breedings | B19: 12 | C19: months/lambing period | E19: Ewe feed during pregnancy | F19: =F16/100*B16*B18 -> 0.3192 | G19: $/ewe/day
A20: Conception rate | B20: 94 | C20: % | E20: Ewe feed during lactation | F20: =B16*F17/100*B18 -> 0.389025 | G20: $/ewe/day
A21: Lambing rate | B21: 1.9 | C21: lambs/ewe | E21: Ewe feed for maintenance | F21: =(B19*30-4*7-B3)*F18 -> 47.0988 | G21: $/ewe/lambing period
A22: Newborn lamb mortality (birth to 1 week) | B22: 11 | C22: % died during first week/lambs born | E22: Ewe feed for pregnancy | F22: =4*7*F19 -> 8.9376 | G22: $/ewe/lambing period
A23: Pre-weaned lamb mortality (1 week old to weaning) | B23: 3 | C23: % died by weaning/lambs who survived first week | E23: Ewe feed for lactation | F23: =B3*F20 -> 25.286625 | G23: $/ewe/lambing period
A24: Number of lambs weaned: | B24: =B15*B20/100*B21*(1-B22/100)*(1-B23/100) -> 154.18538 | C24: lambs/lambing period | E24: Ewe feed costs (productive ewes) | F24: =F21+F22+F23 -> 81.323025 | G24: $/ewe/lambing period (only productive ewes)
A25: Number of lambs born per ewe | B25: =B21*B20/100 -> 1.786 | C25: lambs born/ewe/lambing period (includes non-preg) | E25: Ewe feed costs (all ewes) | F25: =(F18*365)*(1-B20/100)+F24*B20/100 -> 80.306804 | G25: $/ewe/lambing period (includes non-preg)
A26: Number of lambs weaned | B26: =B20/100*B21*(1-B22/100)*(1-B23/100) -> 1.5418538 | C26: lambs weaned/ewe/lambing period (includes non-preg) | E26: Ewe feed costs on a per lamb basis | F26: =F25/B26 -> 52.084577 | G26: $/weaned lamb/lambing period (includes non-preg)
A28: Ewe Labor and Health costs:
A29: Labor rate | B29: 10 | C29: $/hour
A30: Lambing labor | B30: 0.4 | C30: hours/ewe/lambing period
A31: Ewe general labor (feeding, checks, maintenance) | B31: 2.25 | C31: hours/ewe/lambing period
A32: Pregnant/Lactating ewe health costs | B32: 8 | C32: $/ewe/lambing period
A33: Non-pregnant or lactating ewe health costs | B33: 3 | C33: $/ewe/lambing period
A34: Ewe labor costs | B34: =B31*B29+B30*B29*(B20/100) -> 26.26 | C34: $/ewe/lambing period (includes non-preg)
A35: Ewe health costs | B35: =B32*B20/100+B33*(1-B20/100) -> 7.7 | C35: $/ewe/lambing period (includes non-preg)
A36: Ewe labor and health costs | B36: =SUM(B34:B35) -> 33.96 | C36: $/ewe/lambing period (includes non-preg)
A37: Ewe health and labor costs | B37: =B36/B26 -> 22.025435 | C37: $/weaned lamb/lambing period (includes non-preg)
A39: Ewe replacements:
A40: Replacement rate | B40: 15 | C40: % of lambs weaned kept at replacements
A41: Replacement feed price | B41: 0.065 | C41: $/lb DM
A42: Replacement body weight at first breeding | B42: 115 | C42: lbs
A43: Replacement age at first breeding | B43: 230 | C43: days
...

Sheet Finishing
A1: Finishing lambs by weight: | D1: Select frame size and growth | G1: Intermittent costs, add $/lamb when occurs | K1: Costs that depend on lamb weight, enter $/lamb for each weight | P1: Cumulative values
A2: Lamb weight | B2: % Mature size | C2: Lamb age | D2: ADG | E2: Feed:gain | F2: Feed cost | G2: Health costs | H2: Mortality | I2: Bedding, misc. | J2: Labor | K2: Transportation | L2: Commission | M2: Shearing costs | N2: Wool revenue | O2: Shrink | P2: Health costs | Q2: Mortality | R2: Bedding, misc. | S2: Labor
A3: lb/lamb | B3: % | C3: days | D3: lb/day | E3: ratio | F3: $/lb DM | G3: $/lamb | H3: % of lambs weaned | I3: $/lamb | J3: hrs/lamb/day | K3: $/lamb sold | L3: $/lamb sold | M3: $/lamb | N3: $/lamb | O3: % | P3: $/lamb | Q3: % of lambs weaned | R3: $/lamb | S3: $/lamb
A4: =Inputs!B2 -> 48 | B4: =A4/Inputs!$B$16*100 -> 27.428571 | C4: =Inputs!B3 -> 65 | D4: 0.79958127 | E4: 2.9890645 | F4: 0.115 | G4: 0.85 | H4: 0.3 | I4: 1 | J4: 0.002 | K4: 2 | L4: 4 | M4: 0 | N4: 2 | O4: 5 | P4: =G4 -> 0.85 | Q4: =H4 -> 0.3 | R4: =I4 -> 1 | S4: =J4*(C5-C4)*Inputs!$B$29 -> 0.25013092
A5: =A4+10 -> 58 | B5: =A5/Inputs!$B$16*100 -> 33.142857 | C5: =C4+(A5-A4)/D4 -> 77.506546 | D5: 0.80548946 | E5: 3.4115903 | F5: 0.115 | H5: 0.3 | I5: 0.4 | J5: 0.002 | K5: 2.1 | L5: 4 | M5: 0 | N5: 2 | O5: 5 | P5: =G5+P4 -> 0.85 | Q5: =H5+Q4 -> 0.6 | R5: =I5+R4 -> 1.4 | S5: =J5*(C6-C5)*Inputs!$B$29+S4 -> 0.49842716
A6: =A5+10 -> 68 | B6: =A6/Inputs!$B$16*100 -> 38.857143 | C6: =C5+(A6-A5)/D5 -> 89.921358 | D6: 0.77446415 | E6: 3.9588663 | F6: 0.115 | H6: 0.2 | I6: 0.4 | J6: 0.002 | K6: 2.2 | L6: 4.5 | M6: 0 | N6: 2 | O6: 5 | P6: =G6+P5 -> 0.85 | Q6: 2 | R6: =I6+R5 -> 1.8 | S6: =J6*(C7-C6)*Inputs!$B$29+S5 -> 0.75667023
A7: =A6+10 -> 78 | B7: =A7/Inputs!$B$16*100 -> 44.571429 | C7: =C6+(A7-A6)/D6 -> 102.83351 | D7: 0.72062551 | E7: 4.640413 | F7: 0.115 | H7: 0.2 | I7: 0.4 | J7: 0.002 | K7: 2.3 | L7: 4.5 | M7: 0 | N7: 2 | O7: 5 | P7: =G7+P6 -> 0.85 | Q7: =H7+Q6 -> 2.2 | R7: =I7+R6 -> 2.2 | S7: =J7*(C8-C7)*Inputs!$B$29+S6 -> 1.0342069
A8: =A7+10 -> 88 | B8: =A8/Inputs!$B$16*100 -> 50.285714 | C8: =C7+(A8-A7)/D7 -> 116.71034 | D8: 0.65537759 | E8: 5.4655515 | F8: 0.115 | H8: 0.15 | I8: 0.4 | J8: 0.002 | K8: 2.4 | L8: 5 | M8: 0 | N8: 2 | O8: 4 | P8: =G8+P7 -> 0.85 | Q8: =H8+Q7 -> 2.35 | R8: =I8+R7 -> 2.6 | S8: =J8*(C9-C8)*Inputs!$B$29+S7 -> 1.3393745
A9: =A8+10 -> 98 | B9: =A9/Inputs!$B$16*100 -> 56 | C9: =C8+(A9-A8)/D8 -> 131.96872 | D9: 0.5866387 | E9: 6.443489 | F9: 0.11 | H9: 0.15 | I9: 0.4 | J9: 0.002 | K9: 2.5 | L9: 5 | M9: 0 | N9: 2 | O9: 4 | P9: =G9+P8 -> 0.85 | Q9: =H9+Q8 -> 2.5 | R9: =I9+R8 -> 3 | S9: =J9*(C10-C9)*Inputs!$B$29+S8 -> 1.6802998
A10: =A9+10 -> 108 | B10: =A10/Inputs!$B$16*100 -> 61.714286 | C10: =C9+(A10-A9)/D9 -> 149.01499 | D10: 0.51923927 | E10: 7.5841721 | F10: 0.11 | G10: 0.85 | H10: 0.15 | I10: 0.4 | J10: 0.002 | K10: 2.6 | L10: 5.5 | M10: 0 | N10: 2 | O10: 4 | P10: =G10+P9 -> 1.7 | Q10: =H10+Q9 -> 2.65 | R10: =I10+R9 -> 3.4 | S10: =J10*(C11-C10)*Inputs!$B$29+S9 -> 2.0654787
A11: =A10+10 -> 118 | B11: =A11/Inputs!$B$16*100 -> 67.428571 | C11: =C10+(A11-A10)/D10 -> 168.27394 | D11: 0.45573186 | E11: 8.8999702 | F11: 0.11 | H11: 0.15 | I11: 0.4 | J11: 0.002 | K11: 2.7 | L11: 5.5 | M11: 0 | N11: 2 | O11: 4 | P11: =G11+P10 -> 1.7 | Q11: =H11+Q10 -> 2.8 | R11: =I11+R10 -> 3.8 | S11: =J11*(C12-C11)*Inputs!$B$29+S10 -> 2.5043333
A12: =A11+10 -> 128 | B12: =A12/Inputs!$B$16*100 -> 73.142857 | C12: =C11+(A12-A11)/D11 -> 190.21666 | D12: 0.39717641 | E12: 10.408473 | F12: 0.11 | H12: 0.15 | I12: 0.4 | J12: 0.002 | K12: 2.8 | L12: 6 | M12: 0 | N12: 2 | O12: 4 | P12: =G12+P11 -> 1.7 | Q12: =H12+Q11 -> 2.95 | R12: =I12+R11 -> 4.2 | S12: =J12*(C13-C12)*Inputs!$B$29+S11 -> 3.0078878
A13: =A12+10 -> 138 | B13: =A13/Inputs!$B$16*100 -> 78.857143 | C13: =C12+(A13-A12)/D12 -> 215.39439 | D13: 0.34374155 | E13: 12.137025 | F13: 0.11 | H13: 0.15 | I13: 0.4 | J13: 0.002 | K13: 2.9 | L13: 6 | M13: 0 | N13: 2.75 | O13: 3 | P13: =G13+P12 -> 1.7 | Q13: =H13+Q12 -> 3.1 | R13: =I13+R12 -> 4.6 | S13: =J13*(C14-C13)*Inputs!$B$29+S12 -> 3.5897203
A14: =A13+10 -> 148 | B14: =A14/Inputs!$B$16*100 -> 84.571429 | C14: =C13+(A14-A13)/D13 -> 244.48602 | D14: 0.29511059 | E14: 14.130296 | F14: 0.11 | H14: 0.15 | I14: 0.4 | J14: 0.002 | K14: 3 | L14: 6.5 | M14: 3.5 | N14: 2.75 | O14: 3 | P14: =G14+P13 -> 1.7 | Q14: =H14+Q13 -> 3.25 | R14: =I14+R13 -> 5 | S14: =J14*(C15-C14)*Inputs!$B$29+S13 -> 4.2674323
A15: =A14+10 -> 158 | B15: =A15/Inputs!$B$16*100 -> 90.285714 | C15: =C14+(A15-A14)/D14 -> 278.37162 | D15: 0.25073374 | E15: 16.463679 | F15: 0.11 | H15: 0.15 | I15: 0.4 | J15: 0.002 | K15: 3.1 | L15: 6.5 | M15: 3.5 | N15: 2.75 | O15: 3 | P15: =G15+P14 -> 1.7 | Q15: =H15+Q14 -> 3.4 | R15: =I15+R14 -> 5.4 | S15: =J15*(C16-C15)*Inputs!$B$29+S14 -> 5.0650912
A16: =A15+10 -> 168 | B16: =A16/Inputs!$B$16*100 -> 96 | C16: =C15+(A16-A15)/D15 -> 318.25456 | D16: 0.20997478 | E16: 19.268981 | F16: 0.11 | H16: 0.15 | I16: 0.4 | J16: 0.002 | K16: 3.2 | L16: 6 | M16: 3.5 | N16: 2.75 | O16: 3 | P16: =G16+P15 -> 1.7 | Q16: =H16+Q15 -> 3.55 | R16: =I16+R15 -> 5.8 | S16: =J16*(C17-C16)*Inputs!$B$29+S15 -> 6.0175866
A17: =A16+10 -> 178 | B17: =A17/Inputs!$B$16*100 -> 101.71429 | C17: =C16+(A17-A16)/D16 -> 365.87933 | F17: 0.11 | H17: 0.15 | I17: 0.4 | J17: 0.002 | K17: 3.3 | L17: 6 | M17: 3.5 | N17: 2.75 | O17: 3 | P17: =G17+P16 -> 1.7 | Q17: =H17+Q16 -> 3.7 | R17: =I17+R16 -> 6.2 | S17: =J17*(C18-C17)*Inputs!$B$29+S16 -> #DIV/0!
A18: =A17+10 -> 188 | B18: =A18/Inputs!$B$16*100 -> 107.42857 | C18: =C17+(A18-A17)/D17 -> #DIV/0! | F18: 0.11 | H18: 0.15 | I18: 0.4 | J18: 0.002 | K18: 3.4 | L18: 6 | M18: 3.5 | N18: 2.75 | O18: 3 | P18: =G18+P17 -> 1.7 | Q18: =H18+Q17 -> 3.85 | R18: =I18+R17 -> 6.6 | S18: =J18*(C18-C17)*Inputs!$B$29+S17 -> #DIV/0!
L24: =100/35 -> 2.8571429
K25: =0.25/200 -> 0.00125 | L25: 150 | M25: =251/7433 -> 0.03376833 | N25: =L25*M25 -> 5.0652496
L26: 200 | M26: =251/7433 -> 0.03376833 | N26: =L26*M26 -> 6.7536661
L27: 250 | M27: =251/7433 -> 0.03376833 | N27: =L27*M27 -> 8.4420826

Sheet ADG_FG templates
A1: Frame | B1: Small= 136 lb | H1: Medium=170 lb | N1: Large= 204 lb
A2: Growth rate | B2: Slow | D2: Medium | F2: Fast | H2: Slow | J2: Medium | L2: Fast | N2: Slow | P2: Medium | R2: Fast
A3: Weight | B3: ADG | C3: Feed:Gain | D3: ADG | E3: Feed:Gain | F3: ADG | G3: Feed:Gain | H3: ADG | I3: Feed:Gain | J3: ADG | K3: Feed:Gain | L3: ADG | M3: Feed:Gain | N3: ADG | O3: Feed:Gain | P3: ADG | Q3: Feed:Gain | R3: ADG | S3: Feed:Gain
A4: 30 | B4: 0.30868281 | C4: 4.0258344 | D4: 0.54977192 | E4: 2.7447746 | F4: 0.81077977 | G4: 2.1896133 | H4: 0.35179825 | I4: 3.6377802 | J4: 0.62491499 | K4: 2.4867382 | L4: 0.92627678 | M4: 1.9737462 | N4: 0.37928126 | O4: 3.4393225 | P4: 0.67259887 | Q4: 2.3550441 | R4: 1.0000323 | S4: 1.8634692
A5: 40 | B5: 0.35243219 | C5: 4.4677765 | D5: 0.61000371 | E5: 3.1344072 | F5: 0.88136347 | G5: 2.5521954 | H5: 0.43017788 | I5: 3.8134704 | J5: 0.74259686 | K5: 2.6824784 | L5: 1.0801621 | M5: 2.169609 | N5: 0.48227629 | O5: 3.4925875 | P5: 0.83185877 | Q5: 2.4587507 | R5: 1.2158078 | S5: 1.9791569
A6: 50 | B6: 0.35876372 | C6: 5.1992273 | D6: 0.60959021 | E6: 3.7156109 | F6: 0.86716063 | G6: 3.0729092 | H6: 0.47295488 | I6: 4.161571 | J6: 0.79958127 | K6: 2.9890645 | L6: 1.1449372 | M6: 2.4558244 | N6: 0.55515061 | O6: 3.6690273 | P6: 0.93797507 | Q6: 2.636886 | R6: 1.3510965 | S6: 2.153661
A7: 60 | B7: 0.33877197 | C7: 6.2426166 | D7: 0.56992671 | E7: 4.5058425 | F7: 0.80207971 | G7: 3.7666786 | H7: 0.48385237 | I7: 4.677168 | J7: 0.80548946 | K7: 3.4115903 | L7: 1.1385893 | M7: 2.839427 | N7: 0.59735713 | O7: 3.9538866 | P7: 0.99283932 | Q7: 2.8886849 | R7: 1.4120304 | S7: 2.3895502
A8: 70 | B8: 0.30402251 | C8: 7.6414621 | D8: 0.51060761 | E8: 5.5247903 | F8: 0.71430237 | G8: 4.6462446 | H8: 0.47014606 | I8: 5.3705463 | J8: 0.77446415 | K8: 3.9588663 | L8: 1.0837668 | M8: 3.328261 | N8: 0.61179405 | O8: 4.346971 | P8: 1.0035925 | Q8: 3.2177735 | R8: 1.4117288 | S8: 2.6911796
A9: 80 | B9: 0.26328471 | C9: 9.4587831 | D9: 0.4451796 | E9: 6.7927641 | F9: 0.62186143 | G9: 5.7209644 | H9: 0.4399949 | I9: 6.2588961 | J9: 0.72062551 | K9: 4.640413 | L9: 1.0012276 | M9: 3.9292939 | N9: 0.60355447 | O9: 4.8538596 | P9: 0.98019817 | Q9: 3.6291981 | R9: 1.366272 | S9: 3.0631515
A10: 90 | B10: 0.22192892 | C10: 11.789148 | D10: 0.38125689 | E10: 8.3329642 | F10: 0.53412432 | G10: 6.9977099 | H10: 0.40055114 | I10: 7.3645587 | J10: 0.65537759 | K10: 5.4655515 | L10: 0.90665192 | M10: 4.6479995 | N10: 0.57855807 | O10: 5.4830024 | P10: 0.93307175 | Q10: 4.1282999 | R10: 1.2912252 | S10: 3.5096625
A11: 100 | B11: 0.18265807 | C11: 14.788158 | D11: 0.32228115 | E11: 10.177449 | F11: 0.45485689 | G11: 8.4835992 | H11: 0.35714408 | I11: 8.7162055 | J11: 0.5866387 | K11: 6.443489 | L11: 0.81027899 | M11: 5.4883057 | N11: 0.54244555 | O11: 6.244776 | P11: 0.8714214 | Q11: 4.7202574 | R11: 1.1995485 | S11: 4.0341976
A12: 110 | B12: 0.1464825 | C12: 18.738235 | D12: 0.26925578 | E12: 12.378564 | F12: 0.38477137 | G12: 10.190926 | H12: 0.31326247 | I12: 10.352529 | J12: 0.51923927 | K12: 7.5841721 | L12: 0.71795305 | M12: 6.4529863 | N12: 0.49992723 | O12: 7.1514722 | P12: 0.8024688 | Q12: 5.4099715 | R12: 1.1008809 | S12: 4.6394218
A13: 120 | B13: 0.11348229 | C13: 24.209013 | D13: 0.22194642 | E13: 15.030654 | F13: 0.32314228 | G13: 12.145442 | H13: 0.27091736 | I13: 12.329351 | J13: 0.45573186 | K13: 8.8999702 | L13: 0.63248363 | M13: 7.5444873 | N13: 0.454557 | O13: 8.217956 | P13: 0.7313541 | Q13: 6.202194 | R13: 1.0017363 | S13: 5.327221
A14: 130 | B14: 0.083290186 | C14: 32.519897 | D14: 0.17958279 | E14: 18.314673 | F14: 0.26869203 | G14: 14.400917 | H14: 0.23108376 | I14: 14.732626 | J14: 0.39717641 | K14: 10.408473 | L14: 0.55480149 | M14: 8.7662515 | N14: 0.40879041 | O14: 9.4630208 | P14: 0.66142093 | Q14: 7.1018819 | R14: 0.90611336 | S14: 6.0988777
A15: 140 | H15: 0.19407764 | I15: 17.703042 | J15: 0.34374155 | K15: 12.137025 | L15: 0.48477848 | M15: 10.124697 | N15: 0.36417917 | O15: 10.911673 | P15: 0.59463359 | Q15: 8.1148011 | R15: 0.81618267 | S15: 6.9553826
A16: 150 | H16: 0.15982981 | I16: 21.48609 | J16: 0.29511059 | K16: 14.130296 | L16: 0.42175057 | M16: 11.632189 | N16: 0.32159825 | O16: 12.598839 | P16: 0.53198136 | Q16: 9.2484443 | R16: 0.73288301 | S16: 7.897898
A17: 160 | H17: 0.1280662 | I17: 26.545095 | J17: 0.25073374 | K17: 16.463679 | L17: 0.36482738 | M17: 13.311694 | N17: 0.2814506 | O17: 14.575469 | P17: 0.47380865 | Q17: 10.513386 | R17: 0.65637633 | S17: 8.9284026
A18: 170 | H18: 0.098418697 | I18: 33.855356 | J18: 0.20997478 | K18: 19.268981 | L18: 0.31306328 | M18: 15.204594 | N18: 0.24382919 | O18: 16.918948 | P18: 0.42005925 | Q18: 11.925302 | R18: 0.58636739 | S18: 10.050582
A19: 180 | N19: 0.20863532 | O19: 19.751887 | P19: 0.37044531 | Q19: 13.508067 | R19: 0.52231571 | S19: 11.271074
A20: 190 | N20: 0.17566023 | O20: 23.278451 | P20: 0.32455853 | Q20: 15.29873 | R20: 0.46356933 | S20: 12.601284
A21: 200 | N21: 0.1446388 | O21: 27.861153 | P21: 0.28194008 | Q21: 17.355934 | R21: 0.40944543 | S21: 14.060146

Sheet Profit
A1: Profit by lamb weight: | K1: Cumulative
A2: Lamb weight | B2: Market price | C2: Profit | D2: Profit | E2: Cost of production | F2: Cost of production | G2: Sales revenue | H2: Feed intake | I2: Feed cost | J2: Feed cost | K2: Feed costs | L2: Lamb revenue | M2: Checkoff | N2: Ewe feed | O2: Ewe labor and health | P2: Feed costs replmt | Q2: Replmt labor and health | R2: Cull ewe revenue
A3: lb/lamb | B3: $/lb | C3: $/lamb sold | D3: $/ewe | E3: $/lamb sold | F3: $/lamb that died | G3: $/lamb sold | H3: lb/day/lamb | I3: $/day/lamb | J3: $/period/lamb | K3: $/lamb sold | L3: $/lamb sold | M3: $/lamb sold | N3: $/lamb weaned for sale | O3: $/lamb weaned for sale | P3: $/lamb weaned | Q3: $/lamb weaned | R3: $/lamb weaned
A4: =Finishing!A4 -> 48 | B4: 2.4 | C4: =G4-E4-F4 -> 20.693848 | D4: =C4*Inputs!$B$26*(1-Finishing!Q4/100) -> 31.811168 | E4: =K4+M4+Finishing!P4+Finishing!R4+Finishing!S4+Finishing!K4+Finishing!L4+Finishing!M4+(N4+O4+P4+Q4) -> 105.47077 | F4: =(K4+Finishing!P4+Finishing!R4+Finishing!S4+Finishing!M4+(N4+O4+P4+Q4))*(Finishing!Q4/100) -> 0.29740431 | G4: =L4+Finishing!N4+R4 -> 126.46202 | H4: =Finishing!E4*Finishing!D4 -> 2.39 | I4: =H4*Finishing!F4 -> 0.27485 | J4: =I4*(Finishing!C5-Finishing!C4) -> 3.4374242 | K4: =J4+Inputs!B12 -> 3.4374242 | L4: =A4*(1-Finishing!O4/100)*B4 -> 109.44 | M4: =0.007*A4 -> 0.336 | N4: =Inputs!$F$26/(1-Inputs!$B$40/100) -> 61.275973 | O4: =Inputs!$B$37/(1-Inputs!$B$40/100) -> 25.912276 | P4: =Inputs!$B$45/(1-Inputs!$B$40/100) -> 4.6442609 | Q4: =Inputs!$B$48/(1-Inputs!$B$40/100) -> 1.7647059 | R4: =Inputs!$B$51/(1-Inputs!$B$40/100) -> 15.022024
A5: =Finishing!A5 -> 58 | B5: 2.3 | C5: =G5-E5-F5 -> 32.917389 | D5: =C5*Inputs!$B$26*(1-Finishing!Q5/100) -> 50.449279 | E5: =K5+M5+Finishing!P5+Finishing!R5+Finishing!S5+Finishing!K5+Finishing!L5+Finishing!M5+(N5+O5+P5+Q5) -> 110.2124 | F5: =(K5+Finishing!P5+Finishing!R5+Finishing!S5+Finishing!M5+(N5+O5+P5+Q5))*(Finishing!Q5/100) -> 0.62223838 | G5: =L5+Finishing!N5+R5 -> 143.75202 | H5: =Finishing!E5*Finishing!D5 -> 2.748 | I5: =H5*Finishing!F5 -> 0.31602 | J5: =I5*(Finishing!C6-Finishing!C5) -> 3.9233288 | K5: =J5+K4 -> 7.360753 | L5: =A5*(1-Finishing!O5/100)*B5 -> 126.73 | M5: =0.007*A5 -> 0.406 | N5: =Inputs!$F$26/(1-Inputs!$B$40/100) -> 61.275973 | O5: =Inputs!$B$37/(1-Inputs!$B$40/100) -> 25.912276 | P5: =Inputs!$B$45/(1-Inputs!$B$40/100) -> 4.6442609 | Q5: =Inputs!$B$48/(1-Inputs!$B$40/100) -> 1.7647059 | R5: =Inputs!$B$51/(1-Inputs!$B$40/100) -> 15.022024
A6: =Finishing!A6 -> 68 | B6: 2.25 | C6: =G6-E6-F6 -> 44.100342 | D6: =C6*Inputs!$B$26*(1-Finishing!Q6/100) -> 66.636354 | E6: =K6+M6+Finishing!P6+Finishing!R6+Finishing!S6+Finishing!K6+Finishing!L6+Finishing!M6+(N6+O6+P6+Q6) -> 116.09334 | F6: =(K6+Finishing!P6+Finishing!R6+Finishing!S6+Finishing!M6+(N6+O6+P6+Q6))*(Finishing!Q6/100) -> 2.1783467 | G6: =L6+Finishing!N6+R6 -> 162.37202 | H6: =Finishing!E6*Finishing!D6 -> 3.066 | I6: =H6*Finishing!F6 -> 0.35259 | J6: =I6*(Finishing!C7-Finishing!C6) -> 4.5526962 | K6: =J6+K5 -> 11.913449 | L6: =A6*(1-Finishing!O6/100)*B6 -> 145.35 | M6: =0.007*A6 -> 0.476 | N6: =Inputs!$F$26/(1-Inputs!$B$40/100) -> 61.275973 | O6: =Inputs!$B$37/(1-Inputs!$B$40/100) -> 25.912276 | P6: =Inputs!$B$45/(1-Inputs!$B$40/100) -> 4.6442609 | Q6: =Inputs!$B$48/(1-Inputs!$B$40/100) -> 1.7647059 | R6: =Inputs!$B$51/(1-Inputs!$B$40/100) -> 15.022024
A7: =Finishing!A7 -> 78 | B7: 2.15 | C7: =G7-E7-F7 -> 51.531187 | D7: =C7*Inputs!$B$26*(1-Finishing!Q7/100) -> 77.705578 | E7: =K7+M7+Finishing!P7+Finishing!R7+Finishing!S7+Finishing!K7+Finishing!L7+Finishing!M7+(N7+O7+P7+Q7) -> 122.27735 | F7: =(K7+Finishing!P7+Finishing!R7+Finishing!S7+Finishing!M7+(N7+O7+P7+Q7))*(Finishing!Q7/100) -> 2.5284896 | G7: =L7+Finishing!N7+R7 -> 176.33702 | H7: =Finishing!E7*Finishing!D7 -> 3.344 | I7: =H7*Finishing!F7 -> 0.38456 | J7: =I7*(Finishing!C8-Finishing!C7) -> 5.336475 | K7: =J7+K6 -> 17.249924 | L7: =A7*(1-Finishing!O7/100)*B7 -> 159.315 | M7: =0.007*A7 -> 0.546 | N7: =Inputs!$F$26/(1-Inputs!$B$40/100) -> 61.275973 | O7: =Inputs!$B$37/(1-Inputs!$B$40/100) -> 25.912276 | P7: =Inputs!$B$45/(1-Inputs!$B$40/100) -> 4.6442609 | Q7: =Inputs!$B$48/(1-Inputs!$B$40/100) -> 1.7647059 | R7: =Inputs!$B$51/(1-Inputs!$B$40/100) -> 15.022024
A8: =Finishing!A8 -> 88 | B8: 2.05 | C8: =G8-E8-F8 -> 57.40296 | D8: =C8*Inputs!$B$26*(1-Finishing!Q8/100) -> 86.427058 | E8: =K8+M8+Finishing!P8+Finishing!R8+Finishing!S8+Finishing!K8+Finishing!L8+Finishing!M8+(N8+O8+P8+Q8) -> 129.9379 | F8: =(K8+Finishing!P8+Finishing!R8+Finishing!S8+Finishing!M8+(N8+O8+P8+Q8))*(Finishing!Q8/100) -> 2.8651646 | G8: =L8+Finishing!N8+R8 -> 190.20602 | H8: =Finishing!E8*Finishing!D8 -> 3.582 | I8: =H8*Finishing!F8 -> 0.41193 | J8: =I8*(Finishing!C9-Finishing!C8) -> 6.2853843 | K8: =J8+K7 -> 23.535308 | L8: =A8*(1-Finishing!O8/100)*B8 -> 173.184 | M8: =0.007*A8 -> 0.616 | N8: =Inputs!$F$26/(1-Inputs!$B$40/100) -> 61.275973 | O8: =Inputs!$B$37/(1-Inputs!$B$40/100) -> 25.912276 | P8: =Inputs!$B$45/(1-Inputs!$B$40/100) -> 4.6442609 | Q8: =Inputs!$B$48/(1-Inputs!$B$40/100) -> 1.7647059 | R8: =Inputs!$B$51/(1-Inputs!$B$40/100) -> 15.022024
A9: =Finishing!A9 -> 98 | B9: 1.95 | C9: =G9-E9-F9 -> 59.297595 | D9: =C9*Inputs!$B$26*(1-Finishing!Q9/100) -> 89.142517 | E9: =K9+M9+Finishing!P9+Finishing!R9+Finishing!S9+Finishing!K9+Finishing!L9+Finishing!M9+(N9+O9+P9+Q9) -> 137.93666 | F9: =(K9+Finishing!P9+Finishing!R9+Finishing!S9+Finishing!M9+(N9+O9+P9+Q9))*(Finishing!Q9/100) -> 3.2437666 | G9: =L9+Finishing!N9+R9 -> 200.47802 | H9: =Finishing!E9*Finishing!D9 -> 3.78 | I9: =H9*Finishing!F9 -> 0.4158 | J9: =I9*(Finishing!C10-Finishing!C9) -> 7.0878379 | K9: =J9+K8 -> 30.623146 | L9: =A9*(1-Finishing!O9/100)*B9 -> 183.456 | M9: =0.007*A9 -> 0.686 | N9: =Inputs!$F$26/(1-Inputs!$B$40/100) -> 61.275973 | O9: =Inputs!$B$37/(1-Inputs!$B$40/100) -> 25.912276 | P9: =Inputs!$B$45/(1-Inputs!$B$40/100) -> 4.6442609 | Q9: =Inputs!$B$48/(1-Inputs!$B$40/100) -> 1.7647059 | R9: =Inputs!$B$51/(1-Inputs!$B$40/100) -> 15.022024
A10: =Finishing!A10 -> 108 | B10: 1.85 | C10: =G10-E10-F10 -> 56.54279 | D10: =C10*Inputs!$B$26*(1-Finishing!Q10/100) -> 84.870427 | E10: =K10+M10+Finishing!P10+Finishing!R10+Finishing!S10+Finishing!K10+Finishing!L10+Finishing!M10+(N10+O10+P10+Q10) -> 148.58443 | F10: =(K10+Finishing!P10+Finishing!R10+Finishing!S10+Finishing!M10+(N10+O10+P10+Q10))*(Finishing!Q10/100) -> 3.7028034 | G10: =L10+Finishing!N10+R10 -> 208.83002 | H10: =Finishing!E10*Finishing!D10 -> 3.938 | I10: =H10*Finishing!F10 -> 0.43318 | J10: =I10*(Finishing!C11-Finishing!C10) -> 8.3425894 | K10: =J10+K9 -> 38.965736 | L10: =A10*(1-Finishing!O10/100)*B10 -> 191.808 | M10: =0.007*A10 -> 0.756 | N10: =Inputs!$F$26/(1-Inputs!$B$40/100) -> 61.275973 | O10: =Inputs!$B$37/(1-Inputs!$B$40/100) -> 25.912276 | P10: =Inputs!$B$45/(1-Inputs!$B$40/100) -> 4.6442609 | Q10: =Inputs!$B$48/(1-Inputs!$B$40/100) -> 1.7647059 | R10: =Inputs!$B$51/(1-Inputs!$B$40/100) -> 15.022024
A11: =Finishing!A11 -> 118 | B11: 1.68 | C11: =G11-E11-F11 -> 43.739168 | D11: =C11*Inputs!$B$26*(1-Finishing!Q11/100) -> 65.5511 | E11: =K11+M11+Finishing!P11+Finishing!R11+Finishing!S11+Finishing!K11+Finishing!L11+Finishing!M11+(N11+O11+P11+Q11) -> 159.38325 | F11: =(K11+Finishing!P11+Finishing!R11+Finishing!S11+Finishing!M11+(N11+O11+P11+Q11))*(Finishing!Q11/100) -> 4.2100031 | G11: =L11+Finishing!N11+R11 -> 207.33242 | H11: =Finishing!E11*Finishing!D11 -> 4.056 | I11: =H11*Finishing!F11 -> 0.44616 | J11: =I11*(Finishing!C12-Finishing!C11) -> 9.7899672 | K11: =J11+K10 -> 48.755703 | L11: =A11*(1-Finishing!O11/100)*B11 -> 190.3104 | M11: =0.007*A11 -> 0.826 | N11: =Inputs!$F$26/(1-Inputs!$B$40/100) -> 61.275973 | O11: =Inputs!$B$37/(1-Inputs!$B$40/100) -> 25.912276 | P11: =Inputs!$B$45/(1-Inputs!$B$40/100) -> 4.6442609 | Q11: =Inputs!$B$48/(1-Inputs!$B$40/100) -> 1.7647059 | R11: =Inputs!$B$51/(1-Inputs!$B$40/100) -> 15.022024
A12: =Finishing!A12 -> 128 | B12: 1.65 | C12: =G12-E12-F12 -> 42.567948 | D12: =C12*Inputs!$B$26*(1-Finishing!Q12/100) -> 63.697362 | E12: =K12+M12+Finishing!P12+Finishing!R12+Finishing!S12+Finishing!K12+Finishing!L12+Finishing!M12+(N12+O12+P12+Q12) -> 172.40613 | F12: =(K12+Finishing!P12+Finishing!R12+Finishing!S12+Finishing!M12+(N12+O12+P12+Q12))*(Finishing!Q12/100) -> 4.7999488 | G12: =L12+Finishing!N12+R12 -> 219.77402 | H12: =Finishing!E12*Finishing!D12 -> 4.134 | I12: =H12*Finishing!F12 -> 0.45474 | J12: =I12*(Finishing!C13-Finishing!C12) -> 11.44932 | K12: =J12+K11 -> 60.205023 | L12: =A12*(1-Finishing!O12/100)*B12 -> 202.752 | M12: =0.007*A12 -> 0.896 | N12: =Inputs!$F$26/(1-Inputs!$B$40/100) -> 61.275973 | O12: =Inputs!$B$37/(1-Inputs!$B$40/100) -> 25.912276 | P12: =Inputs!$B$45/(1-Inputs!$B$40/100) -> 4.6442609 | Q12: =Inputs!$B$48/(1-Inputs!$B$40/100) -> 1.7647059 | R12: =Inputs!$B$51/(1-Inputs!$B$40/100) -> 15.022024
A13: =Finishing!A13 -> 138 | B13: 1.6 | C13: =G13-E13-F13 -> 39.551013 | D13: =C13*Inputs!$B$26*(1-Finishing!Q13/100) -> 59.091441 | E13: =K13+M13+Finishing!P13+Finishing!R13+Finishing!S13+Finishing!K13+Finishing!L13+Finishing!M13+(N13+O13+P13+Q13) -> 186.90869 | F13: =(K13+Finishing!P13+Finishing!R13+Finishing!S13+Finishing!M13+(N13+O13+P13+Q13))*(Finishing!Q13/100) -> 5.4883233 | G13: =L13+Finishing!N13+R13 -> 231.94802 | H13: =Finishing!E13*Finishing!D13 -> 4.172 | I13: =H13*Finishing!F13 -> 0.45892 | J13: =I13*(Finishing!C14-Finishing!C13) -> 13.350728 | K13: =J13+K12 -> 73.555751 | L13: =A13*(1-Finishing!O13/100)*B13 -> 214.176 | M13: =0.007*A13 -> 0.966 | N13: =Inputs!$F$26/(1-Inputs!$B$40/100) -> 61.275973 | O13: =Inputs!$B$37/(1-Inputs!$B$40/100) -> 25.912276 | P13: =Inputs!$B$45/(1-Inputs!$B$40/100) -> 4.6442609 | Q13: =Inputs!$B$48/(1-Inputs!$B$40/100) -> 1.7647059 | R13: =Inputs!$B$51/(1-Inputs!$B$40/100) -> 15.022024
A14: =Finishing!A14 -> 148 | B14: 1.55 | C14: =G14-E14-F14 -> 26.182478 | D14: =C14*Inputs!$B$26*(1-Finishing!Q14/100) -> 39.057542 | E14: =K14+M14+Finishing!P14+Finishing!R14+Finishing!S14+Finishing!K14+Finishing!L14+Finishing!M14+(N14+O14+P14+Q14) -> 207.69973 | F14: =(K14+Finishing!P14+Finishing!R14+Finishing!S14+Finishing!M14+(N14+O14+P14+Q14))*(Finishing!Q14/100) -> 6.4078211 | G14: =L14+Finishing!N14+R14 -> 240.29002 | H14: =Finishing!E14*Finishing!D14 -> 4.17 | I14: =H14*Finishing!F14 -> 0.4587 | J14: =I14*(Finishing!C15-Finishing!C14) -> 15.543325 | K14: =J14+K13 -> 89.099077 | L14: =A14*(1-Finishing!O14/100)*B14 -> 222.518 | M14: =0.007*A14 -> 1.036 | N14: =Inputs!$F$26/(1-Inputs!$B$40/100) -> 61.275973 | O14: =Inputs!$B$37/(1-Inputs!$B$40/100) -> 25.912276 | P14: =Inputs!$B$45/(1-Inputs!$B$40/100) -> 4.6442609 | Q14: =Inputs!$B$48/(1-Inputs!$B$40/100) -> 1.7647059 | R14: =Inputs!$B$51/(1-Inputs!$B$40/100) -> 15.022024
A15: =Finishing!A15 -> 158 | B15: 1.4 | C15: =G15-E15-F15 -> -2.2014363 | D15: =C15*Inputs!$B$26*(1-Finishing!Q15/100) -> -3.278887 | E15: =K15+M15+Finishing!P15+Finishing!R15+Finishing!S15+Finishing!K15+Finishing!L15+Finishing!M15+(N15+O15+P15+Q15) -> 227.17743 | F15: =(K15+Finishing!P15+Finishing!R15+Finishing!S15+Finishing!M15+(N15+O15+P15+Q15))*(Finishing!Q15/100) -> 7.3600287 | G15: =L15+Finishing!N15+R15 -> 232.33602 | H15: =Finishing!E15*Finishing!D15 -> 4.128 | I15: =H15*Finishing!F15 -> 0.45408 | J15: =I15*(Finishing!C16-Finishing!C15) -> 18.110047 | K15: =J15+K14 -> 107.20912 | L15: =A15*(1-Finishing!O15/100)*B15 -> 214.564 | M15: =0.007*A15 -> 1.106 | N15: =Inputs!$F$26/(1-Inputs!$B$40/100) -> 61.275973 | O15: =Inputs!$B$37/(1-Inputs!$B$40/100) -> 25.912276 | P15: =Inputs!$B$45/(1-Inputs!$B$40/100) -> 4.6442609 | Q15: =Inputs!$B$48/(1-Inputs!$B$40/100) -> 1.7647059 | R15: =Inputs!$B$51/(1-Inputs!$B$40/100) -> 15.022024
A16: =Finishing!A16 -> 168 | B16: 1.3 | C16: =G16-E16-F16 -> -28.260985 | D16: =C16*Inputs!$B$26*(1-Finishing!Q16/100) -> -42.027419 | E16: =K16+M16+Finishing!P16+Finishing!R16+Finishing!S16+Finishing!K16+Finishing!L16+Finishing!M16+(N16+O16+P16+Q16) -> 249.39581 | F16: =(K16+Finishing!P16+Finishing!R16+Finishing!S16+Finishing!M16+(N16+O16+P16+Q16))*(Finishing!Q16/100) -> 8.4852031 | G16: =L16+Finishing!N16+R16 -> 229.62002 | H16: =Finishing!E16*Finishing!D16 -> 4.046 | I16: =H16*Finishing!F16 -> 0.44506 | J16: =I16*(Finishing!C17-Finishing!C16) -> 21.195879 | K16: =J16+K15 -> 128.405 | L16: =A16*(1-Finishing!O16/100)*B16 -> 211.848 | M16: =0.007*A16 -> 1.176 | N16: =Inputs!$F$26/(1-Inputs!$B$40/100) -> 61.275973 | O16: =Inputs!$B$37/(1-Inputs!$B$40/100) -> 25.912276 | P16: =Inputs!$B$45/(1-Inputs!$B$40/100) -> 4.6442609 | Q16: =Inputs!$B$48/(1-Inputs!$B$40/100) -> 1.7647059 | R16: =Inputs!$B$51/(1-Inputs!$B$40/100) -> 15.022024
A17: =Finishing!A17 -> 178 | C17: =G17-E17-F17 -> #DIV/0! | D17: =C17*Inputs!$B$26*(1-Finishing!Q17/100) -> #DIV/0! | E17: =K17+M17+Finishing!P17+Finishing!R17+Finishing!S17+Finishing!K17+Finishing!L17+Finishing!M17+(N17+O17+P17+Q17) -> #DIV/0! | F17: =(K17+Finishing!P17+Finishing!R17+Finishing!S17+Finishing!M17+(N17+O17+P17+Q17))*(Finishing!Q17/100) -> #DIV/0! | G17: =L17+Finishing!N17+R17 -> 17.772024 | H17: =Finishing!E17*Finishing!D17 -> 0 | I17: =H17*Finishing!F17 -> 0 | J17: =I17*(Finishing!C18-Finishing!C17) -> #DIV/0! | K17: =J17+K16 -> #DIV/0! | L17: =A17*(1-Finishing!O17/100)*B17 -> 0 | M17: =0.007*A17 -> 1.246 | N17: =Inputs!$F$26/(1-Inputs!$B$40/100) -> 61.275973 | O17: =Inputs!$B$37/(1-Inputs!$B$40/100) -> 25.912276 | P17: =Inputs!$B$45/(1-Inputs!$B$40/100) -> 4.6442609 | Q17: =Inputs!$B$48/(1-Inputs!$B$40/100) -> 1.7647059 | R17: =Inputs!$B$51/(1-Inputs!$B$40/100) -> 15.022024
A18: =Finishing!A18 -> 188 | C18: =G18-E18-F18 -> #DIV/0! | D18: =C18*Inputs!$B$26*(1-Finishing!Q18/100) -> #DIV/0! | E18: =K18+M18+Finishing!P18+Finishing!R18+Finishing!S18+Finishing!K18+Finishing!L18+Finishing!M18+(N18+O18+P18+Q18) -> #DIV/0! | F18: =(K18+Finishing!P18+Finishing!R18+Finishing!S18+Finishing!M18+(N18+O18+P18+Q18))*(Finishing!Q18/100) -> #DIV/0! | G18: =L18+Finishing!N18+R18 -> 17.772024 | H18: =Finishing!E18*Finishing!D18 -> 0 | I18: =H18*Finishing!F18 -> 0 | J18: =I18*(Finishing!C18-Finishing!C17) -> #DIV/0! | K18: =J18+K17 -> #DIV/0! | L18: =A18*(1-Finishing!O18/100)*B18 -> 0 | M18: =0.007*A18 -> 1.316 | N18: =Inputs!$F$26/(1-Inputs!$B$40/100) -> 61.275973 | O18: =Inputs!$B$37/(1-Inputs!$B$40/100) -> 25.912276 | P18: =Inputs!$B$45/(1-Inputs!$B$40/100) -> 4.6442609 | Q18: =Inputs!$B$48/(1-Inputs!$B$40/100) -> 1.7647059 | R18: =Inputs!$B$51/(1-Inputs!$B$40/100) -> 15.022024

Sheet Comparisons
A1: Inputs: | B1: Current | D1: A | E1: B | F1: C | G1: D | H1: E | I1: F | J1: G | K1: H | M1: A | N1: B | O1: C | P1: D | Q1: E | R1: F | S1: G | T1: H
C2: Units | D2: New value | E2: New value | F2: New value | G2: New value | H2: New value | I2: New value | J2: New value | K2: New value | M2: % Change | N2: % Change | O2: % Change | P2: % Change | Q2: % Change | R2: % Change | S2: % Change | T2: % Change
A3: Weaning weight | B3: =Inputs!B2 -> 48 | C3: lb | D3: =$B3 -> 48 | E3: =$B3 -> 48 | F3: =$B3 -> 48 | G3: =$B3 -> 48 | H3: =$B3 -> 48 | I3: =$B3 -> 48 | J3: =$B3 -> 48 | K3: =$B3 -> 48 | M3: =(D3/$B3-1)*100 -> 0 | N3: =(E3/$B3-1)*100 -> 0 | O3: =(F3/$B3-1)*100 -> 0 | P3: =(G3/$B3-1)*100 -> 0 | Q3: =(H3/$B3-1)*100 -> 0 | R3: =(I3/$B3-1)*100 -> 0 | S3: =(J3/$B3-1)*100 -> 0 | T3: =(K3/$B3-1)*100 -> 0
A4: Weaning age | B4: =Inputs!B3 -> 65 | C4: days | D4: =$B4 -> 65 | E4: =$B4 -> 65 | F4: =$B4 -> 65 | G4: =$B4 -> 65 | H4: =$B4 -> 65 | I4: =$B4 -> 65 | J4: =$B4 -> 65 | K4: =$B4 -> 65 | M4: =(D4/$B4-1)*100 -> 0 | N4: =(E4/$B4-1)*100 -> 0 | O4: =(F4/$B4-1)*100 -> 0 | P4: =(G4/$B4-1)*100 -> 0 | Q4: =(H4/$B4-1)*100 -> 0 | R4: =(I4/$B4-1)*100 -> 0 | S4: =(J4/$B4-1)*100 -> 0 | T4: =(K4/$B4-1)*100 -> 0
A5: Number of days creep fed | B5: =Inputs!B4 -> 0 | C5: days | D5: =$B5 -> 0 | E5: =$B5 -> 0 | F5: =$B5 -> 0 | G5: =$B5 -> 0 | H5: =$B5 -> 0 | I5: =$B5 -> 0 | J5: =$B5 -> 0 | K5: =$B5 -> 0 | M5: =(D5/$B5-1)*100 -> #DIV/0! | N5: =(E5/$B5-1)*100 -> #DIV/0! | O5: =(F5/$B5-1)*100 -> #DIV/0! | P5: =(G5/$B5-1)*100 -> #DIV/0! | Q5: =(H5/$B5-1)*100 -> #DIV/0! | R5: =(I5/$B5-1)*100 -> #DIV/0! | S5: =(J5/$B5-1)*100 -> #DIV/0! | T5: =(K5/$B5-1)*100 -> #DIV/0!
A6: Average lb creep fed per day | B6: =Inputs!B5 -> 0.4 | C6: lb DM/day | D6: =$B6 -> 0.4 | E6: =$B6 -> 0.4 | F6: =$B6 -> 0.4 | G6: =$B6 -> 0.4 | H6: =$B6 -> 0.4 | I6: =$B6 -> 0.4 | J6: =$B6 -> 0.4 | K6: =$B6 -> 0.4 | M6: =(D6/$B6-1)*100 -> 0 | N6: =(E6/$B6-1)*100 -> 0 | O6: =(F6/$B6-1)*100 -> 0 | P6: =(G6/$B6-1)*100 -> 0 | Q6: =(H6/$B6-1)*100 -> 0 | R6: =(I6/$B6-1)*100 -> 0 | S6: =(J6/$B6-1)*100 -> 0 | T6: =(K6/$B6-1)*100 -> 0
A7: Average creep feed price | B7: =Inputs!B6 -> 0.15 | C7: $/lb DM | D7: =$B7 -> 0.15 | E7: =$B7 -> 0.15 | F7: =$B7 -> 0.15 | G7: =$B7 -> 0.15 | H7: =$B7 -> 0.15 | I7: =$B7 -> 0.15 | J7: =$B7 -> 0.15 | K7: =$B7 -> 0.15 | M7: =(D7/$B7-1)*100 -> 0 | N7: =(E7/$B7-1)*100 -> 0 | O7: =(F7/$B7-1)*100 -> 0 | P7: =(G7/$B7-1)*100 -> 0 | Q7: =(H7/$B7-1)*100 -> 0 | R7: =(I7/$B7-1)*100 -> 0 | S7: =(J7/$B7-1)*100 -> 0 | T7: =(K7/$B7-1)*100 -> 0
A8: Number of days fed hay | B8: =Inputs!B8 -> 0 | C8: days | D8: =$B8 -> 0 | E8: =$B8 -> 0 | F8: =$B8 -> 0 | G8: =$B8 -> 0 | H8: =$B8 -> 0 | I8: =$B8 -> 0 | J8: =$B8 -> 0 | K8: =$B8 -> 0 | M8: =(D8/$B8-1)*100 -> #DIV/0! | N8: =(E8/$B8-1)*100 -> #DIV/0! | O8: =(F8/$B8-1)*100 -> #DIV/0! | P8: =(G8/$B8-1)*100 -> #DIV/0! | Q8: =(H8/$B8-1)*100 -> #DIV/0! | R8: =(I8/$B8-1)*100 -> #DIV/0! | S8: =(J8/$B8-1)*100 -> #DIV/0! | T8: =(K8/$B8-1)*100 -> #DIV/0!
A9: Average lb hay fed per day | B9: =Inputs!B9 -> 0.2 | C9: lb DM/day | D9: =$B9 -> 0.2 | E9: =$B9 -> 0.2 | F9: =$B9 -> 0.2 | G9: =$B9 -> 0.2 | H9: =$B9 -> 0.2 | I9: =$B9 -> 0.2 | J9: =$B9 -> 0.2 | K9: =$B9 -> 0.2 | M9: =(D9/$B9-1)*100 -> 0 | N9: =(E9/$B9-1)*100 -> 0 | O9: =(F9/$B9-1)*100 -> 0 | P9: =(G9/$B9-1)*100 -> 0 | Q9: =(H9/$B9-1)*100 -> 0 | R9: =(I9/$B9-1)*100 -> 0 | S9: =(J9/$B9-1)*100 -> 0 | T9: =(K9/$B9-1)*100 -> 0
A10: Average hay price | B10: =Inputs!B10 -> 0.07 | C10: $/lb DM | D10: =$B10 -> 0.07 | E10: =$B10 -> 0.07 | F10: =$B10 -> 0.07 | G10: =$B10 -> 0.07 | H10: =$B10 -> 0.07 | I10: =$B10 -> 0.07 | J10: =$B10 -> 0.07 | K10: =$B10 -> 0.07 | M10: =(D10/$B10-1)*100 -> 0 | N10: =(E10/$B10-1)*100 -> 0 | O10: =(F10/$B10-1)*100 -> 0 | P10: =(G10/$B10-1)*100 -> 0 | Q10: =(H10/$B10-1)*100 -> 0 | R10: =(I10/$B10-1)*100 -> 0 | S10: =(J10/$B10-1)*100 -> 0 | T10: =(K10/$B10-1)*100 -> 0
A11: Ewe body weight | B11: =Inputs!B16 -> 175 | C11: lbs | D11: =$B11 -> 175 | E11: =$B11 -> 175 | F11: =$B11 -> 175 | G11: =$B11 -> 175 | H11: =$B11 -> 175 | I11: =$B11 -> 175 | J11: =$B11 -> 175 | K11: =$B11 -> 175 | M11: =(D11/$B11-1)*100 -> 0 | N11: =(E11/$B11-1)*100 -> 0 | O11: =(F11/$B11-1)*100 -> 0 | P11: =(G11/$B11-1)*100 -> 0 | Q11: =(H11/$B11-1)*100 -> 0 | R11: =(I11/$B11-1)*100 -> 0 | S11: =(J11/$B11-1)*100 -> 0 | T11: =(K11/$B11-1)*100 -> 0
A12: Ewe maintenance feed price | B12: =Inputs!B17 -> 0.042 | C12: $/lb DM | D12: =$B12 -> 0.042 | E12: =$B12 -> 0.042 | F12: =$B12 -> 0.042 | G12: =$B12 -> 0.042 | H12: =$B12 -> 0.042 | I12: =$B12 -> 0.042 | J12: =$B12 -> 0.042 | K12: =$B12 -> 0.042 | M12: =(D12/$B12-1)*100 -> 0 | N12: =(E12/$B12-1)*100 -> 0 | O12: =(F12/$B12-1)*100 -> 0 | P12: =(G12/$B12-1)*100 -> 0 | Q12: =(H12/$B12-1)*100 -> 0 | R12: =(I12/$B12-1)*100 -> 0 | S12: =(J12/$B12-1)*100 -> 0 | T12: =(K12/$B12-1)*100 -> 0
A13: Ewe pregnancy/lactation feed price | B13: =Inputs!B18 -> 0.057 | C13: $/lb DM | D13: =$B13 -> 0.057 | E13: =$B13 -> 0.057 | F13: =$B13 -> 0.057 | G13: =$B13 -> 0.057 | H13: =$B13 -> 0.057 | I13: =$B13 -> 0.057 | J13: =$B13 -> 0.057 | K13: =$B13 -> 0.057 | M13: =(D13/$B13-1)*100 -> 0 | N13: =(E13/$B13-1)*100 -> 0 | O13: =(F13/$B13-1)*100 -> 0 | P13: =(G13/$B13-1)*100 -> 0 | Q13: =(H13/$B13-1)*100 -> 0 | R13: =(I13/$B13-1)*100 -> 0 | S13: =(J13/$B13-1)*100 -> 0 | T13: =(K13/$B13-1)*100 -> 0
A14: Number of months between breedings | B14: =Inputs!B19 -> 12 | C14: months/lambing period | D14: =$B14 -> 12 | E14: =$B14 -> 12 | F14: =$B14 -> 12 | G14: =$B14 -> 12 | H14: =$B14 -> 12 | I14: =$B14 -> 12 | J14: =$B14 -> 12 | K14: =$B14 -> 12 | M14: =(D14/$B14-1)*100 -> 0 | N14: =(E14/$B14-1)*100 -> 0 | O14: =(F14/$B14-1)*100 -> 0 | P14: =(G14/$B14-1)*100 -> 0 | Q14: =(H14/$B14-1)*100 -> 0 | R14: =(I14/$B14-1)*100 -> 0 | S14: =(J14/$B14-1)*100 -> 0 | T14: =(K14/$B14-1)*100 -> 0
A15: Conception rate | B15: =Inputs!B20 -> 94 | C15: % | D15: =$B15 -> 94 | E15: =$B15 -> 94 | F15: =$B15 -> 94 | G15: =$B15 -> 94 | H15: =$B15 -> 94 | I15: =$B15 -> 94 | J15: =$B15 -> 94 | K15: =$B15 -> 94 | M15: =(D15/$B15-1)*100 -> 0 | N15: =(E15/$B15-1)*100 -> 0 | O15: =(F15/$B15-1)*100 -> 0 | P15: =(G15/$B15-1)*100 -> 0 | Q15: =(H15/$B15-1)*100 -> 0 | R15: =(I15/$B15-1)*100 -> 0 | S15: =(J15/$B15-1)*100 -> 0 | T15: =(K15/$B15-1)*100 -> 0
A16: Lambing rate | B16: =Inputs!B21 -> 1.9 | C16: lambs/ewe | D16: =$B16 -> 1.9 | E16: =$B16 -> 1.9 | F16: =$B16 -> 1.9 | G16: =$B16 -> 1.9 | H16: =$B16 -> 1.9 | I16: =$B16 -> 1.9 | J16: =$B16 -> 1.9 | K16: =$B16 -> 1.9 | M16: =(D16/$B16-1)*100 -> 0 | N16: =(E16/$B16-1)*100 -> 0 | O16: =(F16/$B16-1)*100 -> 0 | P16: =(G16/$B16-1)*100 -> 0 | Q16: =(H16/$B16-1)*100 -> 0 | R16: =(I16/$B16-1)*100 -> 0 | S16: =(J16/$B16-1)*100 -> 0 | T16: =(K16/$B16-1)*100 -> 0
A17: Newborn lamb mortality (birth to 1 week) | B17: =Inputs!B22 -> 11 | C17: % died during first week/lambs born | D17: =$B17 -> 11 | E17: =$B17 -> 11 | F17: =$B17 -> 11 | G17: =$B17 -> 11 | H17: =$B17 -> 11 | I17: =$B17 -> 11 | J17: =$B17 -> 11 | K17: =$B17 -> 11 | M17: =(D17/$B17-1)*100 -> 0 | N17: =(E17/$B17-1)*100 -> 0 | O17: =(F17/$B17-1)*100 -> 0 | P17: =(G17/$B17-1)*100 -> 0 | Q17: =(H17/$B17-1)*100 -> 0 | R17: =(I17/$B17-1)*100 -> 0 | S17: =(J17/$B17-1)*100 -> 0 | T17: =(K17/$B17-1)*100 -> 0
A18: Pre-weaned lamb mortality (1 week old to weaning) | B18: =Inputs!B23 -> 3 | C18: % died by weaning/lambs who survived first week | D18: =$B18 -> 3 | E18: =$B18 -> 3 | F18: =$B18 -> 3 | G18: =$B18 -> 3 | H18: =$B18 -> 3 | I18: =$B18 -> 3 | J18: =$B18 -> 3 | K18: =$B18 -> 3 | M18: =(D18/$B18-1)*100 -> 0 | N18: =(E18/$B18-1)*100 -> 0 | O18: =(F18/$B18-1)*100 -> 0 | P18: =(G18/$B18-1)*100 -> 0 | Q18: =(H18/$B18-1)*100 -> 0 | R18: =(I18/$B18-1)*100 -> 0 | S18: =(J18/$B18-1)*100 -> 0 | T18: =(K18/$B18-1)*100 -> 0
A19: Labor rate | B19: =Inputs!B29 -> 10 | C19: $/hour | D19: =$B19 -> 10 | E19: =$B19 -> 10 | F19: =$B19 -> 10 | G19: =$B19 -> 10 | H19: =$B19 -> 10 | I19: =$B19 -> 10 | J19: =$B19 -> 10 | K19: =$B19 -> 10 | M19: =(D19/$B19-1)*100 -> 0 | N19: =(E19/$B19-1)*100 -> 0 | O19: =(F19/$B19-1)*100 -> 0 | P19: =(G19/$B19-1)*100 -> 0 | Q19: =(H19/$B19-1)*100 -> 0 | R19: =(I19/$B19-1)*100 -> 0 | S19: =(J19/$B19-1)*100 -> 0 | T19: =(K19/$B19-1)*100 -> 0
A20: Lambing labor | B20: =Inputs!B30 -> 0.4 | C20: hours/ewe/lambing period | D20: =$B20 -> 0.4 | E20: =$B20 -> 0.4 | F20: =$B20 -> 0.4 | G20: =$B20 -> 0.4 | H20: =$B20 -> 0.4 | I20: =$B20 -> 0.4 | J20: =$B20 -> 0.4 | K20: =$B20 -> 0.4 | M20: =(D20/$B20-1)*100 -> 0 | N20: =(E20/$B20-1)*100 -> 0 | O20: =(F20/$B20-1)*100 -> 0 | P20: =(G20/$B20-1)*100 -> 0 | Q20: =(H20/$B20-1)*100 -> 0 | R20: =(I20/$B20-1)*100 -> 0 | S20: =(J20/$B20-1)*100 -> 0 | T20: =(K20/$B20-1)*100 -> 0
A21: Ewe general labor (feeding, checks, maintenance) | B21: =Inputs!B31 -> 2.25 | C21: hours/ewe/lambing period | D21: =$B21 -> 2.25 | E21: =$B21 -> 2.25 | F21: =$B21 -> 2.25 | G21: =$B21 -> 2.25 | H21: =$B21 -> 2.25 | I21: =$B21 -> 2.25 | J21: =$B21 -> 2.25 | K21: =$B21 -> 2.25 | M21: =(D21/$B21-1)*100 -> 0 | N21: =(E21/$B21-1)*100 -> 0 | O21: =(F21/$B21-1)*100 -> 0 | P21: =(G21/$B21-1)*100 -> 0 | Q21: =(H21/$B21-1)*100 -> 0 | R21: =(I21/$B21-1)*100 -> 0 | S21: =(J21/$B21-1)*100 -> 0 | T21: =(K21/$B21-1)*100 -> 0
A22: Pregnant/Lactating ewe health costs | B22: =Inputs!B32 -> 8 | C22: $/ewe/lambing period | D22: =$B22 -> 8 | E22: =$B22 -> 8 | F22: =$B22 -> 8 | G22: =$B22 -> 8 | H22: =$B22 -> 8 | I22: =$B22 -> 8 | J22: =$B22 -> 8 | K22: =$B22 -> 8 | M22: =(D22/$B22-1)*100 -> 0 | N22: =(E22/$B22-1)*100 -> 0 | O22: =(F22/$B22-1)*100 -> 0 | P22: =(G22/$B22-1)*100 -> 0 | Q22: =(H22/$B22-1)*100 -> 0 | R22: =(I22/$B22-1)*100 -> 0 | S22: =(J22/$B22-1)*100 -> 0 | T22: =(K22/$B22-1)*100 -> 0
A23: Non-pregnant or lactating ewe health costs | B23: =Inputs!B33 -> 3 | C23: $/ewe/lambing period | D23: =$B23 -> 3 | E23: =$B23 -> 3 | F23: =$B23 -> 3 | G23: =$B23 -> 3 | H23: =$B23 -> 3 | I23: =$B23 -> 3 | J23: =$B23 -> 3 | K23: =$B23 -> 3 | M23: =(D23/$B23-1)*100 -> 0 | N23: =(E23/$B23-1)*100 -> 0 | O23: =(F23/$B23-1)*100 -> 0 | P23: =(G23/$B23-1)*100 -> 0 | Q23: =(H23/$B23-1)*100 -> 0 | R23: =(I23/$B23-1)*100 -> 0 | S23: =(J23/$B23-1)*100 -> 0 | T23: =(K23/$B23-1)*100 -> 0
A24: Replacement rate | B24: =Inputs!B40 -> 15 | C24: % of lambs weaned kept at replacements | D24: =$B24 -> 15 | E24: =$B24 -> 15 | F24: =$B24 -> 15 | G24: =$B24 -> 15 | H24: =$B24 -> 15 | I24: =$B24 -> 15 | J24: =$B24 -> 15 | K24: =$B24 -> 15 | M24: =(D24/$B24-1)*100 -> 0 | N24: =(E24/$B24-1)*100 -> 0 | O24: =(F24/$B24-1)*100 -> 0 | P24: =(G24/$B24-1)*100 -> 0 | Q24: =(H24/$B24-1)*100 -> 0 | R24: =(I24/$B24-1)*100 -> 0 | S24: =(J24/$B24-1)*100 -> 0 | T24: =(K24/$B24-1)*100 -> 0
A25: Replacement feed price | B25: =Inputs!B41 -> 0.065 | C25: $/lb DM | D25: =$B25 -> 0.065 | E25: =$B25 -> 0.065 | F25: =$B25 -> 0.065 | G25: =$B25 -> 0.065 | H25: =$B25 -> 0.065 | I25: =$B25 -> 0.065 | J25: =$B25 -> 0.065 | K25: =$B25 -> 0.065 | M25: =(D25/$B25-1)*100 -> 0 | N25: =(E25/$B25-1)*100 -> 0 | O25: =(F25/$B25-1)*100 -> 0 | P25: =(G25/$B25-1)*100 -> 0 | Q25: =(H25/$B25-1)*100 -> 0 | R25: =(I25/$B25-1)*100 -> 0 | S25: =(J25/$B25-1)*100 -> 0 | T25: =(K25/$B25-1)*100 -> 0
A26: Replacement body weight at first breeding | B26: =Inputs!B42 -> 115 | C26: lbs | D26: =$B26 -> 115 | E26: =$B26 -> 115 | F26: =$B26 -> 115 | G26: =$B26 -> 115 | H26: =$B26 -> 115 | I26: =$B26 -> 115 | J26: =$B26 -> 115 | K26: =$B26 -> 115 | M26: =(D26/$B26-1)*100 -> 0 | N26: =(E26/$B26-1)*100 -> 0 | O26: =(F26/$B26-1)*100 -> 0 | P26: =(G26/$B26-1)*100 -> 0 | Q26: =(H26/$B26-1)*100 -> 0 | R26: =(I26/$B26-1)*100 -> 0 | S26: =(J26/$B26-1)*100 -> 0 | T26: =(K26/$B26-1)*100 -> 0
A27: Replacement age at first breeding | B27: =Inputs!B43 -> 230 | C27: days | D27: =$B27 -> 230 | E27: =$B27 -> 230 | F27: =$B27 -> 230 | G27: =$B27 -> 230 | H27: =$B27 -> 230 | I27: =$B27 -> 230 | J27: =$B27 -> 230 | K27: =$B27 -> 230 | M27: =(D27/$B27-1)*100 -> 0 | N27: =(E27/$B27-1)*100 -> 0 | O27: =(F27/$B27-1)*100 -> 0 | P27: =(G27/$B27-1)*100 -> 0 | Q27: =(H27/$B27-1)*100 -> 0 | R27: =(I27/$B27-1)*100 -> 0 | S27: =(J27/$B27-1)*100 -> 0 | T27: =(K27/$B27-1)*100 -> 0
A28: Health and labor costs for ewe replacements | B28: =Inputs!B47 -> 10 | C28: $/ewe replacement | D28: =$B28 -> 10 | E28: =$B28 -> 10 | F28: =$B28 -> 10 | G28: =$B28 -> 10 | H28: =$B28 -> 10 | I28: =$B28 -> 10 | J28: =$B28 -> 10 | K28: =$B28 -> 10 | M28: =(D28/$B28-1)*100 -> 0 | N28: =(E28/$B28-1)*100 -> 0 | O28: =(F28/$B28-1)*100 -> 0 | P28: =(G28/$B28-1)*100 -> 0 | Q28: =(H28/$B28-1)*100 -> 0 | R28: =(I28/$B28-1)*100 -> 0 | S28: =(J28/$B28-1)*100 -> 0 | T28: =(K28/$B28-1)*100 -> 0
A29: Cull ewe market price | B29: =Inputs!B50 -> 0.75 | C29: $/lb | D29: =$B29 -> 0.75 | E29: =$B29 -> 0.75 | F29: =$B29 -> 0.75 | G29: =$B29 -> 0.75 | H29: =$B29 -> 0.75 | I29: =$B29 -> 0.75 | J29: =$B29 -> 0.75 | K29: =$B29 -> 0.75 | M29: =(D29/$B29-1)*100 -> 0 | N29: =(E29/$B29-1)*100 -> 0 | O29: =(F29/$B29-1)*100 -> 0 | P29: =(G29/$B29-1)*100 -> 0 | Q29: =(H29/$B29-1)*100 -> 0 | R29: =(I29/$B29-1)*100 -> 0 | S29: =(J29/$B29-1)*100 -> 0 | T29: =(K29/$B29-1)*100 -> 0
A30: Market price by lamb weight:
A31: =Finishing!A4 -> 48 | B31: =Profit!B4 -> 2.4 | C31: $/lb | D31: =$B31 -> 2.4 | E31: =$B31 -> 2.4 | F31: =$B31 -> 2.4 | G31: =$B31 -> 2.4 | H31: =$B31 -> 2.4 | I31: =$B31 -> 2.4 | J31: =$B31 -> 2.4 | K31: =$B31 -> 2.4 | M31: =(D31/$B31-1)*100 -> 0 | N31: =(E31/$B31-1)*100 -> 0 | O31: =(F31/$B31-1)*100 -> 0 | P31: =(G31/$B31-1)*100 -> 0 | Q31: =(H31/$B31-1)*100 -> 0 | R31: =(I31/$B31-1)*100 -> 0 | S31: =(J31/$B31-1)*100 -> 0 | T31: =(K31/$B31-1)*100 -> 0
A32: =Finishing!A5 -> 58 | B32: =Profit!B5 -> 2.3 | C32: $/lb | D32: =$B32 -> 2.3 | E32: =$B32 -> 2.3 | F32: =$B32 -> 2.3 | G32: =$B32 -> 2.3 | H32: =$B32 -> 2.3 | I32: =$B32 -> 2.3 | J32: =$B32 -> 2.3 | K32: =$B32 -> 2.3 | M32: =(D32/$B32-1)*100 -> 0 | N32: =(E32/$B32-1)*100 -> 0 | O32: =(F32/$B32-1)*100 -> 0 | P32: =(G32/$B32-1)*100 -> 0 | Q32: =(H32/$B32-1)*100 -> 0 | R32: =(I32/$B32-1)*100 -> 0 | S32: =(J32/$B32-1)*100 -> 0 | T32: =(K32/$B32-1)*100 -> 0
A33: =Finishing!A6 -> 68 | B33: =Profit!B6 -> 2.25 | C33: $/lb | D33: =$B33 -> 2.25 | E33: =$B33 -> 2.25 | F33: =$B33 -> 2.25 | G33: =$B33 -> 2.25 | H33: =$B33 -> 2.25 | I33: =$B33 -> 2.25 | J33: =$B33 -> 2.25 | K33: =$B33 -> 2.25 | M33: =(D33/$B33-1)*100 -> 0 | N33: =(E33/$B33-1)*100 -> 0 | O33: =(F33/$B33-1)*100 -> 0 | P33: =(G33/$B33-1)*100 -> 0 | Q33: =(H33/$B33-1)*100 -> 0 | R33: =(I33/$B33-1)*100 -> 0 | S33: =(J33/$B33-1)*100 -> 0 | T33: =(K33/$B33-1)*100 -> 0
A34: =Finishing!A7 -> 78 | B34: =Profit!B7 -> 2.15 | C34: $/lb | D34: =$B34 -> 2.15 | E34: =$B34 -> 2.15 | F34: =$B34 -> 2.15 | G34: =$B34 -> 2.15 | H34: =$B34 -> 2.15 | I34: =$B34 -> 2.15 | J34: =$B34 -> 2.15 | K34: =$B34 -> 2.15 | M34: =(D34/$B34-1)*100 -> 0 | N34: =(E34/$B34-1)*100 -> 0 | O34: =(F34/$B34-1)*100 -> 0 | P34: =(G34/$B34-1)*100 -> 0 | Q34: =(H34/$B34-1)*100 -> 0 | R34: =(I34/$B34-1)*100 -> 0 | S34: =(J34/$B34-1)*100 -> 0 | T34: =(K34/$B34-1)*100 -> 0
A35: =Finishing!A8 -> 88 | B35: =Profit!B8 -> 2.05 | C35: $/lb | D35: =$B35 -> 2.05 | E35: =$B35 -> 2.05 | F35: =$B35 -> 2.05 | G35: =$B35 -> 2.05 | H35: =$B35 -> 2.05 | I35: =$B35 -> 2.05 | J35: =$B35 -> 2.05 | K35: =$B35 -> 2.05 | M35: =(D35/$B35-1)*100 -> 0 | N35: =(E35/$B35-1)*100 -> 0 | O35: =(F35/$B35-1)*100 -> 0 | P35: =(G35/$B35-1)*100 -> 0 | Q35: =(H35/$B35-1)*100 -> 0 | R35: =(I35/$B35-1)*100 -> 0 | S35: =(J35/$B35-1)*100 -> 0 | T35: =(K35/$B35-1)*100 -> 0
A36: =Finishing!A9 -> 98 | B36: =Profit!B9 -> 1.95 | C36: $/lb | D36: =$B36 -> 1.95 | E36: =$B36 -> 1.95 | F36: =$B36 -> 1.95 | G36: =$B36 -> 1.95 | H36: =$B36 -> 1.95 | I36: =$B36 -> 1.95 | J36: =$B36 -> 1.95 | K36: =$B36 -> 1.95 | M36: =(D36/$B36-1)*100 -> 0 | N36: =(E36/$B36-1)*100 -> 0 | O36: =(F36/$B36-1)*100 -> 0 | P36: =(G36/$B36-1)*100 -> 0 | Q36: =(H36/$B36-1)*100 -> 0 | R36: =(I36/$B36-1)*100 -> 0 | S36: =(J36/$B36-1)*100 -> 0 | T36: =(K36/$B36-1)*100 -> 0
A37: =Finishing!A10 -> 108 | B37: =Profit!B10 -> 1.85 | C37: $/lb | D37: =$B37 -> 1.85 | E37: =$B37 -> 1.85 | F37: =$B37 -> 1.85 | G37: =$B37 -> 1.85 | H37: =$B37 -> 1.85 | I37: =$B37 -> 1.85 | J37: =$B37 -> 1.85 | K37: =$B37 -> 1.85 | M37: =(D37/$B37-1)*100 -> 0 | N37: =(E37/$B37-1)*100 -> 0 | O37: =(F37/$B37-1)*100 -> 0 | P37: =(G37/$B37-1)*100 -> 0 | Q37: =(H37/$B37-1)*100 -> 0 | R37: =(I37/$B37-1)*100 -> 0 | S37: =(J37/$B37-1)*100 -> 0 | T37: =(K37/$B37-1)*100 -> 0
A38: =Finishing!A11 -> 118 | B38: =Profit!B11 -> 1.68 | C38: $/lb | D38: =$B38 -> 1.68 | E38: =$B38 -> 1.68 | F38: =$B38 -> 1.68 | G38: =$B38 -> 1.68 | H38: =$B38 -> 1.68 | I38: =$B38 -> 1.68 | J38: =$B38 -> 1.68 | K38: =$B38 -> 1.68 | M38: =(D38/$B38-1)*100 -> 0 | N38: =(E38/$B38-1)*100 -> 0 | O38: =(F38/$B38-1)*100 -> 0 | P38: =(G38/$B38-1)*100 -> 0 | Q38: =(H38/$B38-1)*100 -> 0 | R38: =(I38/$B38-1)*100 -> 0 | S38: =(J38/$B38-1)*100 -> 0 | T38: =(K38/$B38-1)*100 -> 0
A39: =Finishing!A12 -> 128 | B39: =Profit!B12 -> 1.65 | C39: $/lb | D39: =$B39 -> 1.65 | E39: =$B39 -> 1.65 | F39: =$B39 -> 1.65 | G39: =$B39 -> 1.65 | H39: =$B39 -> 1.65 | I39: =$B39 -> 1.65 | J39: =$B39 -> 1.65 | K39: =$B39 -> 1.65 | M39: =(D39/$B39-1)*100 -> 0 | N39: =(E39/$B39-1)*100 -> 0 | O39: =(F39/$B39-1)*100 -> 0 | P39: =(G39/$B39-1)*100 -> 0 | Q39: =(H39/$B39-1)*100 -> 0 | R39: =(I39/$B39-1)*100 -> 0 | S39: =(J39/$B39-1)*100 -> 0 | T39: =(K39/$B39-1)*100 -> 0
A40: =Finishing!A13 -> 138 | B40: =Profit!B13 -> 1.6 | C40: $/lb | D40: =$B40 -> 1.6 | E40: =$B40 -> 1.6 | F40: =$B40 -> 1.6 | G40: =$B40 -> 1.6 | H40: =$B40 -> 1.6 | I40: =$B40 -> 1.6 | J40: =$B40 -> 1.6 | K40: =$B40 -> 1.6 | M40: =(D40/$B40-1)*100 -> 0 | N40: =(E40/$B40-1)*100 -> 0 | O40: =(F40/$B40-1)*100 -> 0 | P40: =(G40/$B40-1)*100 -> 0 | Q40: =(H40/$B40-1)*100 -> 0 | R40: =(I40/$B40-1)*100 -> 0 | S40: =(J40/$B40-1)*100 -> 0 | T40: =(K40/$B40-1)*100 -> 0
...

Sheet Comparison_calc
A1: Pre-weaned lamb feed: | E1: Scenario A
A2: Weaning weight | B2: =Comparisons!D3 -> 48 | C2: lb
A3: Weaning age | B3: =Comparisons!D4 -> 65 | C3: days
A4: Number of days creep fed | B4: =Comparisons!D5 -> 0 | C4: days
A5: Average lb creep fed per day | B5: =Comparisons!D6 -> 0.4 | C5: lb DM/day
A6: Average creep feed price | B6: =Comparisons!D7 -> 0.15 | C6: $/lb DM
A7: Cost of creep feed | B7: =B4*B5*B6 -> 0 | C7: $/lamb
A8: Number of days fed hay | B8: =Comparisons!D8 -> 0 | C8: days
A9: Average lb hay fed per day | B9: =Comparisons!D9 -> 0.2 | C9: lb DM/day
A10: Average hay price | B10: =Comparisons!D10 -> 0.07 | C10: $/lb DM
A11: Cost of hay fed to pre-weaned lambs | B11: =B8*B9*B10 -> 0 | C11: $/lamb
A12: Cost of pre-weaned lamb feed | B12: =B7+B11 -> 0 | C12: $/lamb
A14: Ewe performance and feed costs:
A15: Number of breeding ewes | B15: 100 | C15: ewes | E15: Ewe feed during maintenance | F15: 2.4 | G15: % BW
A16: Ewe body weight | B16: =Comparisons!D11 -> 175 | C16: lbs | E16: Ewe feed during pregnancy | F16: =IF(B21<1.5,2.8,3.2) -> 3.2 | G16: % BW
A17: Ewe maintenance feed price | B17: =Comparisons!D12 -> 0.042 | C17: $/lb DM | E17: Ewe feed during lactation | F17: =IF(B21<1.5,3.5,3.9) -> 3.9 | G17: % BW
A18: Ewe pregnancy/lactation feed price | B18: =Comparisons!D13 -> 0.057 | C18: $/lb DM | E18: Ewe feed during maintenance | F18: =B16*F15/100*B17 -> 0.1764 | G18: $/ewe/day
A19: Number of months between breedings | B19: =Comparisons!D14 -> 12 | C19: months/lambing period | E19: Ewe feed during pregnancy | F19: =F16/100*B16*B18 -> 0.3192 | G19: $/ewe/day
A20: Conception rate | B20: =Comparisons!D15 -> 94 | C20: % | E20: Ewe feed during lactation | F20: =B16*F17/100*B18 -> 0.389025 | G20: $/ewe/day
A21: Lambing rate | B21: =Comparisons!D16 -> 1.9 | C21: lambs/ewe | E21: Ewe feed for maintenance | F21: =(B19*30-4*7-B3)*F18 -> 47.0988 | G21: $/ewe/lambing period
A22: Newborn lamb mortality (birth to 1 week) | B22: =Comparisons!D17 -> 11 | C22: % died during first week/lambs born | E22: Ewe feed for pregnancy | F22: =4*7*F19 -> 8.9376 | G22: $/ewe/lambing period
A23: Pre-weaned lamb mortality (1 week old to weaning) | B23: =Comparisons!D18 -> 3 | C23: % died by weaning/lambs who survived first week | E23: Ewe feed for lactation | F23: =B3*F20 -> 25.286625 | G23: $/ewe/lambing period
A24: Number of lambs weaned: | B24: =B15*B20/100*B21*(1-B22/100)*(1-B23/100) -> 154.18538 | C24: lambs/lambing period | E24: Ewe feed costs (productive ewes) | F24: =F21+F22+F23 -> 81.323025 | G24: $/ewe/lambing period (only productive ewes)
A25: Number of lambs born per ewe | B25: =B21*B20/100 -> 1.786 | C25: lambs born/ewe/lambing period (includes non-preg) | E25: Ewe feed costs (all ewes) | F25: =(F18*365)*(1-B20/100)+F24*B20/100 -> 80.306804 | G25: $/ewe/lambing period (includes non-preg)
A26: Number of lambs weaned | B26: =B20/100*B21*(1-B22/100)*(1-B23/100) -> 1.5418538 | C26: lambs weaned/ewe/lambing period (includes non-preg) | E26: Ewe feed costs on a per lamb basis | F26: =F25/B26 -> 52.084577 | G26: $/weaned lamb/lambing period (includes non-preg)
A28: Ewe Labor and Health costs:
A29: Labor rate | B29: =Comparisons!D19 -> 10 | C29: $/hour
A30: Lambing labor | B30: =Comparisons!D20 -> 0.4 | C30: hours/ewe/lambing period
A31: Ewe general labor (feeding, checks, maintenance) | B31: =Comparisons!D21 -> 2.25 | C31: hours/ewe/lambing period
A32: Pregnant/Lactating ewe health costs | B32: =Comparisons!D22 -> 8 | C32: $/ewe/lambing period
A33: Non-pregnant or lactating ewe health costs | B33: =Comparisons!D23 -> 3 | C33: $/ewe/lambing period
A34: Ewe labor costs | B34: =B31*B29+B30*B29*(B20/100) -> 26.26 | C34: $/ewe/lambing period (includes non-preg)
A35: Ewe health costs | B35: =B32*B20/100+B33*(1-B20/100) -> 7.7 | C35: $/ewe/lambing period (includes non-preg)
A36: Ewe labor and health costs | B36: =SUM(B34:B35) -> 33.96 | C36: $/ewe/lambing period (includes non-preg)
A37: Ewe health and labor costs | B37: =B36/B26 -> 22.025435 | C37: $/weaned lamb/lambing period (includes non-preg)
A39: Ewe replacements:
A40: Replacement rate | B40: =Comparisons!D24 -> 15 | C40: % of lambs weaned kept at replacements
A41: Replacement feed price | B41: =Comparisons!D25 -> 0.065 | C41: $/lb DM
A42: Replacement body weight at first breeding | B42: =Comparisons!D26 -> 115 | C42: lbs
A43: Replacement age at first breeding | B43: =Comparisons!D27 -> 230 | C43: days
...

Sheet ADG_FG calculations
B1: Small frame | F1: Medium frame | J1: Large frame
A2: Weight | B2: Maturity | C2: ADG low | D2: ADG med | E2: ADG high | F2: Maturity | G2: ADG low | H2: ADG med | I2: ADG high | J2: Maturity | K2: ADG low | L2: ADG med | M2: ADG high
A3: 50 | B3: =A3/145*100 -> 34.482759 | C3: =D3-0.12 -> 0.28 | D3: 0.4 | E3: =D3+0.15 -> 0.55 | F3: =A3/175*100 -> 28.571429 | G3: =H3-0.2 -> 0.35 | H3: 0.55 | I3: =H3+0.2 -> 0.75 | J3: =A3/200*100 -> 25 | K3: =L3-0.2 -> 0.4 | L3: 0.6 | M3: =L3+0.2 -> 0.8
A4: 60 | B4: =A4/145*100 -> 41.37931 | C4: =D4-0.12 -> 0.3 | D4: 0.42 | E4: =D4+0.15 -> 0.57 | F4: =A4/175*100 -> 34.285714 | G4: =H4-0.2 -> 0.36 | H4: 0.56 | I4: =H4+0.2 -> 0.76 | J4: =A4/200*100 -> 30 | K4: =L4-0.2 -> 0.42 | L4: 0.62 | M4: =L4+0.2 -> 0.82
A5: 70 | B5: =A5/145*100 -> 48.275862 | C5: =D5-0.12 -> 0.31 | D5: 0.43 | E5: =D5+0.15 -> 0.58 | F5: =A5/175*100 -> 40 | G5: =H5-0.2 -> 0.38 | H5: 0.58 | I5: =H5+0.2 -> 0.78 | J5: =A5/200*100 -> 35 | K5: =L5-0.2 -> 0.45 | L5: 0.65 | M5: =L5+0.2 -> 0.85
A6: 80 | B6: =A6/145*100 -> 55.172414 | C6: =D6-0.12 -> 0.33 | D6: 0.45 | E6: =D6+0.15 -> 0.6 | F6: =A6/175*100 -> 45.714286 | G6: =H6-0.2 -> 0.39 | H6: 0.59 | I6: =H6+0.2 -> 0.79 | J6: =A6/200*100 -> 40 | K6: =L6-0.2 -> 0.45 | L6: 0.65 | M6: =L6+0.2 -> 0.85
A7: 90 | B7: =A7/145*100 -> 62.068966 | C7: =D7-0.12 -> 0.36 | D7: 0.48 | E7: =D7+0.15 -> 0.63 | F7: =A7/175*100 -> 51.428571 | G7: =H7-0.2 -> 0.41 | H7: 0.61 | I7: =H7+0.2 -> 0.81 | J7: =A7/200*100 -> 45 | K7: =L7-0.2 -> 0.48 | L7: 0.68 | M7: =L7+0.2 -> 0.88
A8: 100 | B8: =A8/145*100 -> 68.965517 | C8: =D8-0.12 -> 0.38 | D8: 0.5 | E8: =D8+0.15 -> 0.65 | F8: =A8/175*100 -> 57.142857 | G8: =H8-0.2 -> 0.43 | H8: 0.63 | I8: =H8+0.2 -> 0.83 | J8: =A8/200*100 -> 50 | K8: =L8-0.2 -> 0.5 | L8: 0.7 | M8: =L8+0.2 -> 0.9
A9: 110 | B9: =A9/145*100 -> 75.862069 | C9: =D9-0.12 -> 0.38 | D9: 0.5 | E9: =D9+0.15 -> 0.65 | F9: =A9/175*100 -> 62.857143 | G9: =H9-0.2 -> 0.45 | H9: 0.65 | I9: =H9+0.2 -> 0.85 | J9: =A9/200*100 -> 55 | K9: =L9-0.2 -> 0.54 | L9: 0.74 | M9: =L9+0.2 -> 0.94
A10: 120 | B10: =A10/145*100 -> 82.758621 | C10: =D10-0.12 -> 0.36 | D10: 0.48 | E10: =D10+0.15 -> 0.63 | F10: =A10/175*100 -> 68.571429 | G10: =H10-0.2 -> 0.45 | H10: 0.65 | I10: =H10+0.2 -> 0.85 | J10: =A10/200*100 -> 60 | K10: =L10-0.2 -> 0.55 | L10: 0.75 | M10: =L10+0.2 -> 0.95
A11: 130 | B11: =A11/145*100 -> 89.655172 | C11: =D11-0.12 -> 0.3 | D11: 0.42 | E11: =D11+0.15 -> 0.57 | F11: =A11/175*100 -> 74.285714 | G11: =H11-0.2 -> 0.44 | H11: 0.64 | I11: =H11+0.2 -> 0.84 | J11: =A11/200*100 -> 65 | K11: =L11-0.2 -> 0.58 | L11: 0.78 | M11: =L11+0.2 -> 0.98
A12: 140 | B12: =A12/145*100 -> 96.551724 | C12: =D12-0.12 -> 0.23 | D12: 0.35 | E12: =D12+0.15 -> 0.5 | F12: =A12/175*100 -> 80 | G12: =H12-0.2 -> 0.43 | H12: 0.63 | I12: =H12+0.2 -> 0.83 | J12: =A12/200*100 -> 70 | K12: =L12-0.2 -> 0.6 | L12: 0.8 | M12: =L12+0.2 -> 1
A13: 150 | F13: =A13/175*100 -> 85.714286 | G13: =H13-0.2 -> 0.42 | H13: 0.62 | I13: =H13+0.2 -> 0.82 | J13: =A13/200*100 -> 75 | K13: =L13-0.2 -> 0.6 | L13: 0.8 | M13: =L13+0.2 -> 1
A14: 160 | F14: =A14/175*100 -> 91.428571 | G14: =H14-0.2 -> 0.4 | H14: 0.6 | I14: =H14+0.2 -> 0.8 | J14: =A14/200*100 -> 80 | K14: =L14-0.2 -> 0.58 | L14: 0.78 | M14: =L14+0.2 -> 0.98
A15: 170 | F15: =A15/175*100 -> 97.142857 | G15: =H15-0.2 -> 0.3 | H15: 0.5 | I15: =H15+0.2 -> 0.7 | J15: =A15/200*100 -> 85 | K15: =L15-0.2 -> 0.52 | L15: 0.72 | M15: =L15+0.2 -> 0.92
A16: 180 | J16: =A16/200*100 -> 90 | K16: =L16-0.2 -> 0.48 | L16: 0.68 | M16: =L16+0.2 -> 0.88
A17: 190 | J17: =A17/200*100 -> 95 | K17: =L17-0.2 -> 0.42 | L17: 0.62 | M17: =L17+0.2 -> 0.82
A18: 200 | J18: =A18/200*100 -> 100 | K18: =L18-0.2 -> 0.35 | L18: 0.55 | M18: =L18+0.2 -> 0.75
A21: CHART | B21: Small frame | F21: Medium frame | J21: Large frame
A22: Weight | B22: Maturity | C22: DMI low | D22: DMI med | E22: DMI high | F22: Maturity | G22: DMI low | H22: DMI med | I22: DMI high | J22: Maturity | K22: DMI low | L22: DMI med | M22: DMI high | O22: Maturity | P22: % BW
A23: 50 | B23: =A23/145*100 -> 34.482759 | C23: =INDEX($P$23:$P$31,MATCH($B23,$O$23:$O$31,1))+($B23-INDEX($O$23:$O$31,MATCH($B23,$O$23:$O$31,1)))*(INDEX($P$23:$P$31,MATCH($B23,$O$23:$O$31,1)+1)-INDEX($P$23:$P$31,MATCH($B23,$O$23:$O$31,1)))/(INDEX($O$23:$O$31,MATCH($B23,$O$23:$O$31,1)+1)-INDEX($O$23:$O$31,MATCH($B23,$O$23:$O$31,1))) -> 5.3655172 | D23: =INDEX($P$23:$P$31,MATCH($B23,$O$23:$O$31,1))+($B23-INDEX($O$23:$O$31,MATCH($B23,$O$23:$O$31,1)))*(INDEX($P$23:$P$31,MATCH($B23,$O$23:$O$31,1)+1)-INDEX($P$23:$P$31,MATCH($B23,$O$23:$O$31,1)))/(INDEX($O$23:$O$31,MATCH($B23,$O$23:$O$31,1)+1)-INDEX($O$23:$O$31,MATCH($B23,$O$23:$O$31,1))) -> 5.3655172 | E23: =INDEX($P$23:$P$31,MATCH($B23,$O$23:$O$31,1))+($B23-INDEX($O$23:$O$31,MATCH($B23,$O$23:$O$31,1)))*(INDEX($P$23:$P$31,MATCH($B23,$O$23:$O$31,1)+1)-INDEX($P$23:$P$31,MATCH($B23,$O$23:$O$31,1)))/(INDEX($O$23:$O$31,MATCH($B23,$O$23:$O$31,1)+1)-INDEX($O$23:$O$31,MATCH($B23,$O$23:$O$31,1))) -> 5.3655172 | F23: =A23/175*100 -> 28.571429 | G23: =INDEX($P$23:$P$31,MATCH($F23,$O$23:$O$31,1))+($F23-INDEX($O$23:$O$31,MATCH($F23,$O$23:$O$31,1)))*(INDEX($P$23:$P$31,MATCH($F23,$O$23:$O$31,1)+1)-INDEX($P$23:$P$31,MATCH($F23,$O$23:$O$31,1)))/(INDEX($O$23:$O$31,MATCH($F23,$O$23:$O$31,1)+1)-INDEX($O$23:$O$31,MATCH($F23,$O$23:$O$31,1))) -> 5.5714286 | H23: =INDEX($P$23:$P$31,MATCH($F23,$O$23:$O$31,1))+($F23-INDEX($O$23:$O$31,MATCH($F23,$O$23:$O$31,1)))*(INDEX($P$23:$P$31,MATCH($F23,$O$23:$O$31,1)+1)-INDEX($P$23:$P$31,MATCH($F23,$O$23:$O$31,1)))/(INDEX($O$23:$O$31,MATCH($F23,$O$23:$O$31,1)+1)-INDEX($O$23:$O$31,MATCH($F23,$O$23:$O$31,1))) -> 5.5714286 | I23: =INDEX($P$23:$P$31,MATCH($F23,$O$23:$O$31,1))+($F23-INDEX($O$23:$O$31,MATCH($F23,$O$23:$O$31,1)))*(INDEX($P$23:$P$31,MATCH($F23,$O$23:$O$31,1)+1)-INDEX($P$23:$P$31,MATCH($F23,$O$23:$O$31,1)))/(INDEX($O$23:$O$31,MATCH($F23,$O$23:$O$31,1)+1)-INDEX($O$23:$O$31,MATCH($F23,$O$23:$O$31,1))) -> 5.5714286 | J23: =A23/200*100 -> 25 | K23: =INDEX($P$23:$P$31,MATCH($J23,$O$23:$O$31,1))+($J23-INDEX($O$23:$O$31,MATCH($J23,$O$23:$O$31,1)))*(INDEX($P$23:$P$31,MATCH($J23,$O$23:$O$31,1)+1)-INDEX($P$23:$P$31,MATCH($J23,$O$23:$O$31,1)))/(INDEX($O$23:$O$31,MATCH($J23,$O$23:$O$31,1)+1)-INDEX($O$23:$O$31,MATCH($J23,$O$23:$O$31,1))) -> 5.75 | L23: =INDEX($P$23:$P$31,MATCH($J23,$O$23:$O$31,1))+($J23-INDEX($O$23:$O$31,MATCH($J23,$O$23:$O$31,1)))*(INDEX($P$23:$P$31,MATCH($J23,$O$23:$O$31,1)+1)-INDEX($P$23:$P$31,MATCH($J23,$O$23:$O$31,1)))/(INDEX($O$23:$O$31,MATCH($J23,$O$23:$O$31,1)+1)-INDEX($O$23:$O$31,MATCH($J23,$O$23:$O$31,1))) -> 5.75 | M23: =INDEX($P$23:$P$31,MATCH($J23,$O$23:$O$31,1))+($J23-INDEX($O$23:$O$31,MATCH($J23,$O$23:$O$31,1)))*(INDEX($P$23:$P$31,MATCH($J23,$O$23:$O$31,1)+1)-INDEX($P$23:$P$31,MATCH($J23,$O$23:$O$31,1)))/(INDEX($O$23:$O$31,MATCH($J23,$O$23:$O$31,1)+1)-INDEX($O$23:$O$31,MATCH($J23,$O$23:$O$31,1))) -> 5.75 | O23: 20 | P23: 6
